BEGIN:VCALENDAR
VERSION:2.0
PRODID:-//Point Pleasant Beach Chamber of Commerce - ECPv6.15.16//NONSGML v1.0//EN
CALSCALE:GREGORIAN
METHOD:PUBLISH
X-WR-CALNAME:Point Pleasant Beach Chamber of Commerce
X-ORIGINAL-URL:https://www.pointpleasantbeachchamber.com
X-WR-CALDESC:Events for Point Pleasant Beach Chamber of Commerce
REFRESH-INTERVAL;VALUE=DURATION:PT1H
X-Robots-Tag:noindex
X-PUBLISHED-TTL:PT1H
BEGIN:VTIMEZONE
TZID:America/New_York
BEGIN:DAYLIGHT
TZOFFSETFROM:-0500
TZOFFSETTO:-0400
TZNAME:EDT
DTSTART:20240310T070000
END:DAYLIGHT
BEGIN:STANDARD
TZOFFSETFROM:-0400
TZOFFSETTO:-0500
TZNAME:EST
DTSTART:20241103T060000
END:STANDARD
BEGIN:DAYLIGHT
TZOFFSETFROM:-0500
TZOFFSETTO:-0400
TZNAME:EDT
DTSTART:20250309T070000
END:DAYLIGHT
BEGIN:STANDARD
TZOFFSETFROM:-0400
TZOFFSETTO:-0500
TZNAME:EST
DTSTART:20251102T060000
END:STANDARD
BEGIN:DAYLIGHT
TZOFFSETFROM:-0500
TZOFFSETTO:-0400
TZNAME:EDT
DTSTART:20260308T070000
END:DAYLIGHT
BEGIN:STANDARD
TZOFFSETFROM:-0400
TZOFFSETTO:-0500
TZNAME:EST
DTSTART:20261101T060000
END:STANDARD
BEGIN:DAYLIGHT
TZOFFSETFROM:-0500
TZOFFSETTO:-0400
TZNAME:EDT
DTSTART:20270314T070000
END:DAYLIGHT
BEGIN:STANDARD
TZOFFSETFROM:-0400
TZOFFSETTO:-0500
TZNAME:EST
DTSTART:20271107T060000
END:STANDARD
END:VTIMEZONE
BEGIN:VEVENT
DTSTART;TZID=America/New_York:20260426T120000
DTEND;TZID=America/New_York:20260426T170000
DTSTAMP:20260420T070735
CREATED:20260311T150322Z
LAST-MODIFIED:20260311T150548Z
UID:10000157-1777204800-1777222800@www.pointpleasantbeachchamber.com
SUMMARY:Beach Bar Brawl
DESCRIPTION:Come cheer on your favorite local bartenders as they battle it out for “best behind the bar” bragging rights!\n Get ready for The Beach Bar Brawl! It’s time for the ultimate showdown at Boatyard 401 in Point Pleasant Beach! Join us for the Beach Bar Brawl \, an exciting bartending competition where 12 local bartenders will face off to prove they’re the best in town! Expect a night filled with creativity\, flair\, and incredible cocktails!\nHow It Works:– 12 local bars have selected their top bartenders to compete\, each showcasing their skills in a variety of challenges.-A panel of 5 expert judges will evaluate the bartenders based on their cocktail taste \, creativity\, and technique.-But it’s not just about taste! The public gets to vote for their favorite bartender based on style and presentation —so make sure to pick your winner!\nWhat’s Included:-For just $40 \, your entry includes a delicious food buffet and your first drink free !– Live broadcast of the event on the venue’s TVs\, so you won’t miss any of the action.– Vote for your favorite bartender and cheer them on to victory!Whether you’re a cocktail enthusiast or just here to enjoy a fun night out\, The Beach Bar Brawl is the place to be for great drinks\, friendly competition\, and an unforgettable atmosphere.\nEvent Details: Date: April 26th\, 2026 Time: 12 PM – 5 PM (Judging from 1-4 PM) Location: Boatyard 401\, Point Pleasant Beach\, NJ\nMUST BE 21+ TO ATTEND\nDon’t miss the chance to be part of the action! Get your tickets now for The Beach Bar Brawl \, and let’s find out which bartender will take home the title of Point Pleasant Beach’s best! We can’t wait to see you there!\n\nTICKETS
URL:https://www.pointpleasantbeachchamber.com/event/beach-bar-brawl/
LOCATION:Boatyard 401\, 401 Broadway\, Point Pleasant Beach\, NJ\, 08742\, United States
CATEGORIES:Chamber Events|Community Events
ATTACH;FMTTYPE=image/jpeg:https://www.pointpleasantbeachchamber.com/wp-content/uploads/2026/03/644256506_1363115302523019_7373707238548800470_n.jpg
END:VEVENT
BEGIN:VEVENT
DTSTART;TZID=America/New_York:20260416T160000
DTEND;TZID=America/New_York:20260416T200000
DTSTAMP:20260420T070735
CREATED:20250912T165048Z
LAST-MODIFIED:20260128T171005Z
UID:10000139-1776355200-1776369600@www.pointpleasantbeachchamber.com
SUMMARY:Ladies Night Out
DESCRIPTION:The Point Pleasant Beach Chamber of Commerce would like to invite you to our annual “Ladies Night Out”. Downtown Point Pleasant Beach will be bustling with in-store specials\, raffles and discounts. Grab a friend and stroll Arnold and Bay Ave. Hors d’oeuvres and refreshments will be served at many locations.\nOver 25 members of the Point Pleasant Beach Chamber of Commerce have already signed on to participate\, with more enrolling every day. Don’t miss out! This event is rain or shine!
URL:https://www.pointpleasantbeachchamber.com/event/ladies-night-out-3/
LOCATION:Town Wide
CATEGORIES:Chamber Events,Community Events
ORGANIZER;CN="Point Pleasant Beach Chamber of Commerce":MAILTO:info@pointpleasantbeachnj.com
END:VEVENT
BEGIN:VEVENT
DTSTART;TZID=America/New_York:20260326T160000
DTEND;TZID=America/New_York:20260326T200000
DTSTAMP:20260420T070735
CREATED:20260311T144944Z
LAST-MODIFIED:20260311T150636Z
UID:10000156-1774540800-1774555200@www.pointpleasantbeachchamber.com
SUMMARY:Sick of Winter Sale!
DESCRIPTION: S.O.W. P.P.B. – Sick Of Winter Sale! Winter has had its moment… now it’s time for some tropical vibes in downtown Point Pleasant Beach!Join us on Thursday\, March 26 from 4–8 PM on Arnold Avenue for a fun\, island-inspired day of shopping\, selfies\, and sunshine energy — even if the weather isn’t quite there yet. Dress Tropical!Florals\, bright colors\, Hawaiian shirts\, leis\, and island vibes are encouraged. Enter our Tropical Dress Contest for a chance to win a tropical gift basket filled with goodies from local shops. Selfie Stations + Digital VotingStrike a pose at our selfie station located at @brightside_branding downtown and show off your look. Photos will be used for online voting to help crown the best tropical outfit. Shop the SaleLocal businesses along Arnold Avenue will be offering exclusive discounts\, fun surprises\, and tropical-themed treats throughout the day.Grab your shades\, dress tropical\, and come shop local in Point Pleasant Beach! FREE to attend All ages welcomeHosted by the Point Pleasant Beach Chamber of Commerce
URL:https://www.pointpleasantbeachchamber.com/event/sick-of-winter-sale/
LOCATION:Downtown Point Pleasant Beach\, 601 Arnold Avenue\, Point Pleasant Beach\, NJ\, 08742\, United States
CATEGORIES:Chamber Events|Community Events
ATTACH;FMTTYPE=image/jpeg:https://www.pointpleasantbeachchamber.com/wp-content/uploads/2026/03/650384968_18455393674100999_7942884980900870907_n.jpg
END:VEVENT
BEGIN:VEVENT
DTSTART;TZID=America/New_York:20251220T090000
DTEND;TZID=America/New_York:20251220T120000
DTSTAMP:20260420T070735
CREATED:20251107T190322Z
LAST-MODIFIED:20251107T190322Z
UID:10000151-1766221200-1766232000@www.pointpleasantbeachchamber.com
SUMMARY:Breakfast with Santa at Round Dough
DESCRIPTION:
URL:https://www.pointpleasantbeachchamber.com/event/breakfast-with-santa-at-round-dough/
LOCATION:Round Dough with a Hole\, 400 Richmond Avenue\, Point Pleasant Beach\, NJ\, 08742\, United States
CATEGORIES:Chamber Events|Community Events
END:VEVENT
BEGIN:VEVENT
DTSTART;TZID=America/New_York:20251214T123000
DTEND;TZID=America/New_York:20251214T170000
DTSTAMP:20260420T070735
CREATED:20251107T184614Z
LAST-MODIFIED:20251119T200446Z
UID:10000150-1765715400-1765731600@www.pointpleasantbeachchamber.com
SUMMARY:Brunch with Santa at The Lobster Shanty
DESCRIPTION:Call for reservations.
URL:https://www.pointpleasantbeachchamber.com/event/brunch-with-santa-at-the-lobster-shanty/2025-12-14/4/
LOCATION:The Lobster Shanty\, 83 Channel Drive\, Point Pleasant Beach\, NJ\, 08742\, United States
CATEGORIES:Chamber Events|Community Events
ATTACH;FMTTYPE=image/jpeg:https://www.pointpleasantbeachchamber.com/wp-content/uploads/2025/11/shantysanta.jpg
END:VEVENT
BEGIN:VEVENT
DTSTART;TZID=America/New_York:20251214T110000
DTEND;TZID=America/New_York:20251214T140000
DTSTAMP:20260420T070735
CREATED:20251107T183557Z
LAST-MODIFIED:20251107T183557Z
UID:10000146-1765710000-1765720800@www.pointpleasantbeachchamber.com
SUMMARY:Brunch with Santa at Point Lobster Bar & Grill
DESCRIPTION:
URL:https://www.pointpleasantbeachchamber.com/event/brunch-with-santa-at-point-lobster-bar-grill/
LOCATION:Point Lobster Bar & Grill\, 521 Arnold Avenue\, Point Pleasant Beach\, NJ\, 08742\, United States
CATEGORIES:Chamber Events|Community Events
END:VEVENT
BEGIN:VEVENT
DTSTART;TZID=America/New_York:20251214T100000
DTEND;TZID=America/New_York:20251214T170000
DTSTAMP:20260420T070735
CREATED:20251107T184614Z
LAST-MODIFIED:20251119T200446Z
UID:10000149-1765706400-1765731600@www.pointpleasantbeachchamber.com
SUMMARY:Brunch with Santa at The Lobster Shanty
DESCRIPTION:Call for reservations.
URL:https://www.pointpleasantbeachchamber.com/event/brunch-with-santa-at-the-lobster-shanty/2025-12-14/3/
LOCATION:The Lobster Shanty\, 83 Channel Drive\, Point Pleasant Beach\, NJ\, 08742\, United States
CATEGORIES:Chamber Events|Community Events
ATTACH;FMTTYPE=image/jpeg:https://www.pointpleasantbeachchamber.com/wp-content/uploads/2025/11/shantysanta.jpg
END:VEVENT
BEGIN:VEVENT
DTSTART;TZID=America/New_York:20251213T113000
DTEND;TZID=America/New_York:20251213T140000
DTSTAMP:20260420T070735
CREATED:20251107T181437Z
LAST-MODIFIED:20251119T195359Z
UID:10000145-1765625400-1765634400@www.pointpleasantbeachchamber.com
SUMMARY:Lunch with Santa at Prime 13
DESCRIPTION:
URL:https://www.pointpleasantbeachchamber.com/event/brunch-with-santa-at-prime-13/
LOCATION:Prime 13\, 710 Arnold Avenue\, Point Pleasant Beach\, NJ\, 08742\, United States
CATEGORIES:Chamber Events|Community Events
ATTACH;FMTTYPE=image/jpeg:https://www.pointpleasantbeachchamber.com/wp-content/uploads/2025/11/primesanta.jpg
END:VEVENT
BEGIN:VEVENT
DTSTART;TZID=America/New_York:20251207T123000
DTEND;TZID=America/New_York:20251207T170000
DTSTAMP:20260420T070735
CREATED:20251107T184614Z
LAST-MODIFIED:20251119T200446Z
UID:10000148-1765110600-1765126800@www.pointpleasantbeachchamber.com
SUMMARY:Brunch with Santa at The Lobster Shanty
DESCRIPTION:Call for reservations.
URL:https://www.pointpleasantbeachchamber.com/event/brunch-with-santa-at-the-lobster-shanty/2025-12-07/3/
LOCATION:The Lobster Shanty\, 83 Channel Drive\, Point Pleasant Beach\, NJ\, 08742\, United States
CATEGORIES:Chamber Events|Community Events
ATTACH;FMTTYPE=image/jpeg:https://www.pointpleasantbeachchamber.com/wp-content/uploads/2025/11/shantysanta.jpg
END:VEVENT
BEGIN:VEVENT
DTSTART;TZID=America/New_York:20251207T100000
DTEND;TZID=America/New_York:20251207T100000
DTSTAMP:20260420T070735
CREATED:20251107T184614Z
LAST-MODIFIED:20251119T200446Z
UID:10000147-1765101600-1765101600@www.pointpleasantbeachchamber.com
SUMMARY:Brunch with Santa at The Lobster Shanty
DESCRIPTION:Call for reservations.
URL:https://www.pointpleasantbeachchamber.com/event/brunch-with-santa-at-the-lobster-shanty/2025-12-07/1/
LOCATION:The Lobster Shanty\, 83 Channel Drive\, Point Pleasant Beach\, NJ\, 08742\, United States
CATEGORIES:Chamber Events|Community Events
ATTACH;FMTTYPE=image/jpeg:https://www.pointpleasantbeachchamber.com/wp-content/uploads/2025/11/shantysanta.jpg
END:VEVENT
BEGIN:VEVENT
DTSTART;TZID=America/New_York:20251201T170000
DTEND;TZID=America/New_York:20251201T190000
DTSTAMP:20260420T070735
CREATED:20251121T201834Z
LAST-MODIFIED:20251125T193415Z
UID:10000152-1764608400-1764615600@www.pointpleasantbeachchamber.com
SUMMARY:Networking Happy Hour
DESCRIPTION:
URL:https://www.pointpleasantbeachchamber.com/event/networking-happy-hour-5/
LOCATION:The Little Point Bookshop\, 618 Arnold Avenue\, Point Pleasant Beach\, NJ\, 08742\, United States
CATEGORIES:Chamber Events|Community Events
ATTACH;FMTTYPE=image/png:https://www.pointpleasantbeachchamber.com/wp-content/uploads/2025/11/Ladies-Night-3.png
END:VEVENT
BEGIN:VEVENT
DTSTART;TZID=America/New_York:20251130T090000
DTEND;TZID=America/New_York:20251130T110000
DTSTAMP:20260420T070735
CREATED:20251107T175051Z
LAST-MODIFIED:20251107T175051Z
UID:10000144-1764493200-1764500400@www.pointpleasantbeachchamber.com
SUMMARY:Breakfast with Santa at JSBBQ
DESCRIPTION:
URL:https://www.pointpleasantbeachchamber.com/event/breakfast-with-santa-at-jsbbq/
LOCATION:JSBBQ\, 710 Arnold Avenue\, Point Pleasant Beach\, NJ\, 08742\, United States
CATEGORIES:Chamber Events|Community Events
END:VEVENT
BEGIN:VEVENT
DTSTART;TZID=America/New_York:20251101T120000
DTEND;TZID=America/New_York:20251101T210000
DTSTAMP:20260420T070735
CREATED:20250911T182911Z
LAST-MODIFIED:20251017T193216Z
UID:10000136-1761998400-1762030800@www.pointpleasantbeachchamber.com
SUMMARY:Beers on the Boards 2025
DESCRIPTION:Join us for the ultimate craft beer festival by the beach! Sip and savor select local craft beers\, spiked seltzers\, and hard ciders while enjoying an all-you-can-eat buffet. \n🎶 Live Entertainment:\nAfternoon Session: Ember’s Duo | Evening Session: Big Bang Baby Duo \n_____________________ \nLocal craft beer\, spiked seltzers & hard ciders 🍻Plus a gourmet\, all-you-can-eat buffet! \nSecure Online Event Registration \nGet Tickets \n 
URL:https://www.pointpleasantbeachchamber.com/event/beers-on-the-boards-2025-nj/
LOCATION:Point Pleasant Beach\, 517A Arnold Avenue\, Point Pleasant Beach\, NJ\, 08742\, United States
ATTACH;FMTTYPE=image/jpeg:https://www.pointpleasantbeachchamber.com/wp-content/uploads/2025/09/beersontheboard2025.jpg
END:VEVENT
BEGIN:VEVENT
DTSTART;TZID=America/New_York:20251012T110000
DTEND;TZID=America/New_York:20251012T160000
DTSTAMP:20260420T070736
CREATED:20250912T165504Z
LAST-MODIFIED:20250912T165504Z
UID:10000140-1760266800-1760284800@www.pointpleasantbeachchamber.com
SUMMARY:7th Annual Tug of War
DESCRIPTION:Annual Tug O’ War across the inlet between Point Pleasant Beach and Manasquan.  There will be food\, crafters\, music\, and fun!
URL:https://www.pointpleasantbeachchamber.com/event/7th-annual-tug-of-war-2/
LOCATION:Municipal Parking Lot at the Inlet\, Inlet Dr\, Point Pleasant Beach\, New Jersey\, 08742
CATEGORIES:Chamber Events
END:VEVENT
BEGIN:VEVENT
DTSTART;TZID=America/New_York:20250913T120000
DTEND;TZID=America/New_York:20250913T160000
DTSTAMP:20260420T070736
CREATED:20250912T170416Z
LAST-MODIFIED:20250912T170949Z
UID:10000142-1757764800-1757779200@www.pointpleasantbeachchamber.com
SUMMARY:Restaurant Tour
DESCRIPTION:Welcome to the 7th Annual Point Pleasant Beach Restaurant Tour! Join us in person at Point Pleasant Beach\, NJ for a delicious culinary experience. This event is a fantastic opportunity to sample a variety of dishes from the area’s top restaurants. Take a leisurely stroll through town while indulging in mouthwatering food and drinks. Whether you’re a foodie or just looking for a fun day out\, this tour is not to be missed. Grab your friends and come hungry – we can’t wait to see you there! \nThe Point Pleasant Beach Restaurant Tour 2025\, Saturday\, September 13th 12-4pm. \nGrab your friends and come sample a bite from some of the best restaurants on the Jersey Shore. \nParticipating Restaurants: \nB2 Bistro\nBam Bam Burger Co\nBoatyard 401\nHoagitos\nJimmy’s Cucina\nJSBBQ\nMugsy’s by Meg LaManna\nThe Off Shore Restaurant\nPoint Lobster Bar and Grill\nPop’s Corner\nPrime 13\nRed’s Lobster Pot\nShore Fresh Seafood\nSinner’s Steakhouse\nSweet Revenge Custom Chocolate\n*More may be added \nTicket price: Tickets for this event are $40 each. Ticket purchase will includes a commemorative item .We will only be selling 200 tickets. \nGet Tickets \n 
URL:https://www.pointpleasantbeachchamber.com/event/restaurant-tour-3/
CATEGORIES:Chamber Events,Community Events
ORGANIZER;CN="Point Pleasant Beach Chamber of Commerce":MAILTO:info@pointpleasantbeachnj.com
END:VEVENT
END:VCALENDAR